Package: TBSignatureProfiler Version: 1.19.0 Command: rm -rf TBSignatureProfiler.buildbin-libdir && mkdir TBSignatureProfiler.buildbin-libdir && E:\biocbuild\bbs-3.21-bioc\R\bin\R.exe CMD INSTALL --build --library=TBSignatureProfiler.buildbin-libdir TBSignatureProfiler_1.19.0.tar.gz StartedAt: 2025-02-22 09:29:28 -0500 (Sat, 22 Feb 2025) EndedAt: 2025-02-22 09:30:47 -0500 (Sat, 22 Feb 2025) EllapsedTime: 79.1 seconds RetCode: 0 Status: OK PackageFile: TBSignatureProfiler_1.19.0.zip PackageFileSize: 3.354 MiB