Package: TAPseq Version: 1.19.0 Command: E:\biocbuild\bbs-3.21-bioc\R\bin\R.exe CMD INSTALL TAPseq StartedAt: 2025-02-19 16:04:17 -0500 (Wed, 19 Feb 2025) EndedAt: 2025-02-19 16:05:25 -0500 (Wed, 19 Feb 2025) EllapsedTime: 67.5 seconds RetCode: 0 Status: OK