Package: TAPseq Version: 1.19.0 Command: rm -rf TAPseq.buildbin-libdir && mkdir TAPseq.buildbin-libdir && /Users/biocbuild/BBS/utils/build-universal.sh TAPseq_1.19.0.tar.gz /Library/Frameworks/R.framework/Resources/bin/R TAPseq.buildbin-libdir StartedAt: 2025-02-20 22:37:43 -0500 (Thu, 20 Feb 2025) EndedAt: 2025-02-20 22:38:00 -0500 (Thu, 20 Feb 2025) EllapsedTime: 17.5 seconds RetCode: 0 Status: OK PackageFile: TAPseq_1.19.0.tgz PackageFileSize: 2.962 MiB