Package: TADCompare Version: 1.17.0 Command: chmod a+r TADCompare -R && E:\biocbuild\bbs-3.21-bioc\R\bin\R.exe CMD build --keep-empty-dirs --no-resave-data TADCompare StartedAt: 2025-02-20 22:11:10 -0500 (Thu, 20 Feb 2025) EndedAt: 2025-02-20 22:12:51 -0500 (Thu, 20 Feb 2025) EllapsedTime: 100.8 seconds RetCode: 0 Status: OK PackageFile: TADCompare_1.17.0.tar.gz PackageFileSize: 3.463 MiB