Package: TADCompare Version: 1.17.0 Command: rm -rf TADCompare.buildbin-libdir && mkdir TADCompare.buildbin-libdir && E:\biocbuild\bbs-3.21-bioc\R\bin\R.exe CMD INSTALL --build --library=TADCompare.buildbin-libdir TADCompare_1.17.0.tar.gz StartedAt: 2025-02-21 09:14:08 -0500 (Fri, 21 Feb 2025) EndedAt: 2025-02-21 09:14:50 -0500 (Fri, 21 Feb 2025) EllapsedTime: 42.7 seconds RetCode: 0 Status: OK PackageFile: TADCompare_1.17.0.zip PackageFileSize: 4.275 MiB