Package: SynExtend Version: 1.19.7 Command: E:\biocbuild\bbs-3.21-bioc\R\bin\R.exe CMD INSTALL SynExtend StartedAt: 2025-02-20 15:47:31 -0500 (Thu, 20 Feb 2025) EndedAt: 2025-02-20 15:49:08 -0500 (Thu, 20 Feb 2025) EllapsedTime: 97.1 seconds RetCode: 0 Status: OK