Package: SynExtend Version: 1.19.7 Command: E:\biocbuild\bbs-3.21-bioc\R\bin\R.exe CMD check --no-multiarch --install=check:SynExtend.install-out.txt --library=E:\biocbuild\bbs-3.21-bioc\R\library --no-vignettes --timings SynExtend_1.19.7.tar.gz StartedAt: 2025-02-21 06:22:52 -0500 (Fri, 21 Feb 2025) EndedAt: 2025-02-21 06:31:35 -0500 (Fri, 21 Feb 2025) EllapsedTime: 522.8 seconds RetCode: 0 Status: OK CheckDir: SynExtend.Rcheck Warnings: 0