Package: SynExtend Version: 1.19.7 Command: chmod a+r SynExtend -R && E:\biocbuild\bbs-3.21-bioc\R\bin\R.exe CMD build --keep-empty-dirs --no-resave-data SynExtend StartedAt: 2025-02-20 22:10:25 -0500 (Thu, 20 Feb 2025) EndedAt: 2025-02-20 22:12:39 -0500 (Thu, 20 Feb 2025) EllapsedTime: 133.4 seconds RetCode: 0 Status: OK PackageFile: SynExtend_1.19.7.tar.gz PackageFileSize: 7.519 MiB