Package: SynExtend Version: 1.19.7 Command: /home/biocbuild/bbs-3.21-bioc/R/bin/R CMD INSTALL SynExtend StartedAt: 2025-02-20 15:44:46 -0500 (Thu, 20 Feb 2025) EndedAt: 2025-02-20 15:45:11 -0500 (Thu, 20 Feb 2025) EllapsedTime: 25.8 seconds RetCode: 0 Status: OK