Package: SynExtend Version: 1.19.7 Command: /home/biocbuild/bbs-3.21-bioc/R/bin/R CMD build --keep-empty-dirs --no-resave-data SynExtend StartedAt: 2025-02-20 19:32:08 -0500 (Thu, 20 Feb 2025) EndedAt: 2025-02-20 19:33:21 -0500 (Thu, 20 Feb 2025) EllapsedTime: 73.1 seconds RetCode: 0 Status: OK PackageFile: SynExtend_1.19.7.tar.gz PackageFileSize: 7.564 MiB