Package: SynExtend Version: 1.19.7 Command: /Library/Frameworks/R.framework/Resources/bin/R CMD INSTALL SynExtend StartedAt: 2025-02-21 15:12:55 -0500 (Fri, 21 Feb 2025) EndedAt: 2025-02-21 15:13:40 -0500 (Fri, 21 Feb 2025) EllapsedTime: 44.7 seconds RetCode: 0 Status: OK