Package: SynExtend Version: 1.19.7 Command: rm -rf SynExtend.buildbin-libdir && mkdir SynExtend.buildbin-libdir && /Users/biocbuild/BBS/utils/build-universal.sh SynExtend_1.19.7.tar.gz /Library/Frameworks/R.framework/Resources/bin/R SynExtend.buildbin-libdir StartedAt: 2025-02-22 00:57:36 -0500 (Sat, 22 Feb 2025) EndedAt: 2025-02-22 00:58:19 -0500 (Sat, 22 Feb 2025) EllapsedTime: 42.9 seconds RetCode: 0 Status: OK PackageFile: SynExtend_1.19.7.tgz PackageFileSize: 8.361 MiB