Package: SynExtend Version: 1.19.4 Command: /home/biocbuild/R/R/bin/R CMD check --install=check:SynExtend.install-out.txt --library=/home/biocbuild/R/R/site-library --no-vignettes --timings SynExtend_1.19.4.tar.gz StartedAt: 2025-01-28 15:57:56 -0000 (Tue, 28 Jan 2025) EndedAt: 2025-01-28 16:08:47 -0000 (Tue, 28 Jan 2025) EllapsedTime: 651.0 seconds RetCode: 0 Status: OK CheckDir: SynExtend.Rcheck Warnings: 0