Package: SynExtend Version: 1.19.7 Command: /Library/Frameworks/R.framework/Resources/bin/R CMD check --install=check:SynExtend.install-out.txt --library=/Library/Frameworks/R.framework/Resources/library --no-vignettes --timings SynExtend_1.19.7.tar.gz StartedAt: 2025-02-20 21:44:56 -0500 (Thu, 20 Feb 2025) EndedAt: 2025-02-20 21:47:29 -0500 (Thu, 20 Feb 2025) EllapsedTime: 153.0 seconds RetCode: 0 Status: OK CheckDir: SynExtend.Rcheck Warnings: 0