Package: SynExtend Version: 1.19.7 Command: /Library/Frameworks/R.framework/Resources/bin/R CMD build --keep-empty-dirs --no-resave-data SynExtend StartedAt: 2025-02-20 17:45:46 -0500 (Thu, 20 Feb 2025) EndedAt: 2025-02-20 17:46:20 -0500 (Thu, 20 Feb 2025) EllapsedTime: 33.4 seconds RetCode: 0 Status: OK PackageFile: SynExtend_1.19.7.tar.gz PackageFileSize: 7.568 MiB