Package: SynExtend Version: 1.19.7 Maintainer: Nicholas Cooley MaintainerEmail: npc19 at pitt.edu git_url: https://git.bioconductor.org/packages/SynExtend git_branch: devel git_last_commit: d315f28 git_last_commit_date: 2025-02-14 11:28:28 -0500 (Fri, 14 Feb 2025)