Package: SwathXtend Version: 2.29.0 Command: chmod a+r SwathXtend -R && E:\biocbuild\bbs-3.21-bioc\R\bin\R.exe CMD build --keep-empty-dirs --no-resave-data SwathXtend StartedAt: 2025-02-18 21:55:50 -0500 (Tue, 18 Feb 2025) EndedAt: 2025-02-18 22:00:04 -0500 (Tue, 18 Feb 2025) EllapsedTime: 254.6 seconds RetCode: 0 Status: OK PackageFile: SwathXtend_2.29.0.tar.gz PackageFileSize: 346.1 MiB