Package: SurfR Version: 1.3.6 Command: /home/biocbuild/bbs-3.21-bioc/R/bin/R CMD check --install=check:SurfR.install-out.txt --library=/home/biocbuild/bbs-3.21-bioc/R/site-library --timings SurfR_1.3.6.tar.gz StartedAt: 2025-02-20 03:01:34 -0500 (Thu, 20 Feb 2025) EndedAt: 2025-02-20 03:06:43 -0500 (Thu, 20 Feb 2025) EllapsedTime: 308.5 seconds RetCode: 0 Status: OK CheckDir: SurfR.Rcheck Warnings: 0