Package: SurfR Version: 1.3.6 Command: /home/biocbuild/R/R/bin/R CMD build --keep-empty-dirs --no-resave-data SurfR StartedAt: 2025-01-28 02:48:29 -0000 (Tue, 28 Jan 2025) EndedAt: 2025-01-28 02:49:27 -0000 (Tue, 28 Jan 2025) EllapsedTime: 58.0 seconds RetCode: 0 Status: OK PackageFile: SurfR_1.3.6.tar.gz PackageFileSize: 438.4 KiB