Package: Summix Version: 2.13.0 Command: /home/biocbuild/bbs-3.21-bioc/R/bin/R CMD INSTALL Summix StartedAt: 2025-02-21 15:51:11 -0500 (Fri, 21 Feb 2025) EndedAt: 2025-02-21 15:51:23 -0500 (Fri, 21 Feb 2025) EllapsedTime: 11.9 seconds RetCode: 0 Status: OK