Package: Summix Version: 2.13.0 Command: rm -rf Summix.buildbin-libdir && mkdir Summix.buildbin-libdir && /Users/biocbuild/BBS/utils/build-universal.sh Summix_2.13.0.tar.gz /Library/Frameworks/R.framework/Resources/bin/R Summix.buildbin-libdir StartedAt: 2025-02-21 00:56:23 -0500 (Fri, 21 Feb 2025) EndedAt: 2025-02-21 00:56:38 -0500 (Fri, 21 Feb 2025) EllapsedTime: 15.0 seconds RetCode: 0 Status: OK PackageFile: Summix_2.13.0.tgz PackageFileSize: 353.7 KiB