Package: Summix Version: 2.13.0 Command: /Library/Frameworks/R.framework/Resources/bin/R CMD INSTALL Summix StartedAt: 2025-02-20 15:14:58 -0500 (Thu, 20 Feb 2025) EndedAt: 2025-02-20 15:15:01 -0500 (Thu, 20 Feb 2025) EllapsedTime: 3.8 seconds RetCode: 0 Status: OK