Package: SummarizedExperiment Version: 1.37.0 Command: E:\biocbuild\bbs-3.21-bioc\R\bin\R.exe CMD INSTALL SummarizedExperiment StartedAt: 2025-02-17 15:49:56 -0500 (Mon, 17 Feb 2025) EndedAt: 2025-02-17 16:01:49 -0500 (Mon, 17 Feb 2025) EllapsedTime: 712.7 seconds RetCode: 0 Status: OK