Package: SummarizedExperiment Version: 1.37.0 Command: rm -rf SummarizedExperiment.buildbin-libdir && mkdir SummarizedExperiment.buildbin-libdir && E:\biocbuild\bbs-3.21-bioc\R\bin\R.exe CMD INSTALL --build --library=SummarizedExperiment.buildbin-libdir SummarizedExperiment_1.37.0.tar.gz StartedAt: 2025-02-18 08:25:20 -0500 (Tue, 18 Feb 2025) EndedAt: 2025-02-18 08:29:06 -0500 (Tue, 18 Feb 2025) EllapsedTime: 225.7 seconds RetCode: 0 Status: OK PackageFile: SummarizedExperiment_1.37.0.zip PackageFileSize: 1.911 MiB