Package: SummarizedExperiment Version: 1.37.0 Command: /home/biocbuild/bbs-3.21-bioc/R/bin/R CMD INSTALL SummarizedExperiment StartedAt: 2025-02-17 15:16:13 -0500 (Mon, 17 Feb 2025) EndedAt: 2025-02-17 15:16:39 -0500 (Mon, 17 Feb 2025) EllapsedTime: 26.3 seconds RetCode: 0 Status: OK