Package: SummarizedExperiment Version: 1.37.0 Command: /home/biocbuild/bbs-3.21-bioc/R/bin/R CMD check --install=check:SummarizedExperiment.install-out.txt --library=/home/biocbuild/bbs-3.21-bioc/R/site-library --timings SummarizedExperiment_1.37.0.tar.gz StartedAt: 2025-02-18 02:45:24 -0500 (Tue, 18 Feb 2025) EndedAt: 2025-02-18 02:48:54 -0500 (Tue, 18 Feb 2025) EllapsedTime: 210.3 seconds RetCode: 0 Status: OK CheckDir: SummarizedExperiment.Rcheck Warnings: 0