Package: SummarizedExperiment Version: 1.37.0 Command: /Library/Frameworks/R.framework/Resources/bin/R CMD INSTALL SummarizedExperiment StartedAt: 2025-02-17 15:08:53 -0500 (Mon, 17 Feb 2025) EndedAt: 2025-02-17 15:09:30 -0500 (Mon, 17 Feb 2025) EllapsedTime: 37.8 seconds RetCode: 0 Status: OK