Package: SummarizedExperiment Version: 1.37.0 Command: /Library/Frameworks/R.framework/Resources/bin/R CMD build --keep-empty-dirs --no-resave-data SummarizedExperiment StartedAt: 2025-02-17 18:25:22 -0500 (Mon, 17 Feb 2025) EndedAt: 2025-02-17 18:26:18 -0500 (Mon, 17 Feb 2025) EllapsedTime: 56.0 seconds RetCode: 0 Status: OK PackageFile: SummarizedExperiment_1.37.0.tar.gz PackageFileSize: 672.6 KiB