Package: SummarizedExperiment Version: 1.37.0 Command: rm -rf SummarizedExperiment.buildbin-libdir && mkdir SummarizedExperiment.buildbin-libdir && /Users/biocbuild/BBS/utils/build-universal.sh SummarizedExperiment_1.37.0.tar.gz /Library/Frameworks/R.framework/Resources/bin/R SummarizedExperiment.buildbin-libdir StartedAt: 2025-02-19 22:40:28 -0500 (Wed, 19 Feb 2025) EndedAt: 2025-02-19 22:40:40 -0500 (Wed, 19 Feb 2025) EllapsedTime: 12.2 seconds RetCode: 0 Status: OK PackageFile: SummarizedExperiment_1.37.0.tgz PackageFileSize: 1.884 MiB