Package: SubCellBarCode Version: 1.23.0 Command: E:\biocbuild\bbs-3.21-bioc\R\bin\R.exe CMD INSTALL SubCellBarCode StartedAt: 2025-02-17 15:58:36 -0500 (Mon, 17 Feb 2025) EndedAt: 2025-02-17 15:59:49 -0500 (Mon, 17 Feb 2025) EllapsedTime: 72.3 seconds RetCode: 0 Status: OK