Package: SubCellBarCode Version: 1.23.0 Command: rm -rf SubCellBarCode.buildbin-libdir && mkdir SubCellBarCode.buildbin-libdir && E:\biocbuild\bbs-3.21-bioc\R\bin\R.exe CMD INSTALL --build --library=SubCellBarCode.buildbin-libdir SubCellBarCode_1.23.0.tar.gz StartedAt: 2025-02-18 08:25:15 -0500 (Tue, 18 Feb 2025) EndedAt: 2025-02-18 08:25:57 -0500 (Tue, 18 Feb 2025) EllapsedTime: 42.5 seconds RetCode: 0 Status: OK PackageFile: SubCellBarCode_1.23.0.zip PackageFileSize: 1.741 MiB