Package: SubCellBarCode Version: 1.23.0 Command: /Library/Frameworks/R.framework/Resources/bin/R CMD INSTALL SubCellBarCode StartedAt: 2025-02-17 15:36:05 -0500 (Mon, 17 Feb 2025) EndedAt: 2025-02-17 15:36:34 -0500 (Mon, 17 Feb 2025) EllapsedTime: 29.5 seconds RetCode: 0 Status: OK