Package: SubCellBarCode Version: 1.23.0 Command: /Library/Frameworks/R.framework/Resources/bin/R CMD check --install=check:SubCellBarCode.install-out.txt --library=/Library/Frameworks/R.framework/Resources/library --no-vignettes --timings SubCellBarCode_1.23.0.tar.gz StartedAt: 2025-02-17 23:31:16 -0500 (Mon, 17 Feb 2025) EndedAt: 2025-02-17 23:35:05 -0500 (Mon, 17 Feb 2025) EllapsedTime: 229.4 seconds RetCode: 0 Status: OK CheckDir: SubCellBarCode.Rcheck Warnings: 0