Package: StructuralVariantAnnotation Version: 1.23.0 Command: chmod a+r StructuralVariantAnnotation -R && E:\biocbuild\bbs-3.21-bioc\R\bin\R.exe CMD build --keep-empty-dirs --no-resave-data StructuralVariantAnnotation StartedAt: 2025-02-17 21:49:34 -0500 (Mon, 17 Feb 2025) EndedAt: 2025-02-17 21:51:28 -0500 (Mon, 17 Feb 2025) EllapsedTime: 113.3 seconds RetCode: 0 Status: OK PackageFile: StructuralVariantAnnotation_1.23.0.tar.gz PackageFileSize: 682.8 KiB