Package: StructuralVariantAnnotation Version: 1.23.0 Command: /home/biocbuild/bbs-3.21-bioc/R/bin/R CMD check --install=check:StructuralVariantAnnotation.install-out.txt --library=/home/biocbuild/bbs-3.21-bioc/R/site-library --timings StructuralVariantAnnotation_1.23.0.tar.gz StartedAt: 2025-02-18 02:44:30 -0500 (Tue, 18 Feb 2025) EndedAt: 2025-02-18 02:52:31 -0500 (Tue, 18 Feb 2025) EllapsedTime: 481.7 seconds RetCode: 0 Status: OK CheckDir: StructuralVariantAnnotation.Rcheck Warnings: 0