Package: StructuralVariantAnnotation Version: 1.23.0 Command: /Library/Frameworks/R.framework/Resources/bin/R CMD INSTALL StructuralVariantAnnotation StartedAt: 2025-02-17 15:20:04 -0500 (Mon, 17 Feb 2025) EndedAt: 2025-02-17 15:20:58 -0500 (Mon, 17 Feb 2025) EllapsedTime: 53.8 seconds RetCode: 0 Status: OK