Package: StructuralVariantAnnotation Version: 1.23.0 Command: /Library/Frameworks/R.framework/Resources/bin/R CMD check --install=check:StructuralVariantAnnotation.install-out.txt --library=/Library/Frameworks/R.framework/Resources/library --no-vignettes --timings StructuralVariantAnnotation_1.23.0.tar.gz StartedAt: 2025-02-17 23:31:09 -0500 (Mon, 17 Feb 2025) EndedAt: 2025-02-17 23:39:34 -0500 (Mon, 17 Feb 2025) EllapsedTime: 504.9 seconds RetCode: 0 Status: OK CheckDir: StructuralVariantAnnotation.Rcheck Warnings: 0