Package: StructuralVariantAnnotation Version: 1.23.0 Command: /Library/Frameworks/R.framework/Resources/bin/R CMD build --keep-empty-dirs --no-resave-data StructuralVariantAnnotation StartedAt: 2025-02-17 18:25:01 -0500 (Mon, 17 Feb 2025) EndedAt: 2025-02-17 18:26:24 -0500 (Mon, 17 Feb 2025) EllapsedTime: 83.3 seconds RetCode: 0 Status: OK PackageFile: StructuralVariantAnnotation_1.23.0.tar.gz PackageFileSize: 962.1 KiB