Package: StructuralVariantAnnotation Version: 1.23.0 Command: rm -rf StructuralVariantAnnotation.buildbin-libdir && mkdir StructuralVariantAnnotation.buildbin-libdir && /Users/biocbuild/BBS/utils/build-universal.sh StructuralVariantAnnotation_1.23.0.tar.gz /Library/Frameworks/R.framework/Resources/bin/R StructuralVariantAnnotation.buildbin-libdir StartedAt: 2025-02-18 00:49:57 -0500 (Tue, 18 Feb 2025) EndedAt: 2025-02-18 00:50:55 -0500 (Tue, 18 Feb 2025) EllapsedTime: 57.8 seconds RetCode: 0 Status: OK PackageFile: StructuralVariantAnnotation_1.23.0.tgz PackageFileSize: 1.07 MiB