Package: Structstrings Version: 1.23.1 Command: /home/biocbuild/bbs-3.21-bioc/R/bin/R CMD check --install=check:Structstrings.install-out.txt --library=/home/biocbuild/bbs-3.21-bioc/R/site-library --timings Structstrings_1.23.1.tar.gz StartedAt: 2025-02-18 02:44:24 -0500 (Tue, 18 Feb 2025) EndedAt: 2025-02-18 02:47:24 -0500 (Tue, 18 Feb 2025) EllapsedTime: 180.2 seconds RetCode: 0 Status: OK CheckDir: Structstrings.Rcheck Warnings: 0