Package: Structstrings Version: 1.24.0 Command: /Library/Frameworks/R.framework/Resources/bin/R CMD INSTALL Structstrings StartedAt: 2025-10-02 15:45:55 -0400 (Thu, 02 Oct 2025) EndedAt: 2025-10-02 15:46:15 -0400 (Thu, 02 Oct 2025) EllapsedTime: 20.5 seconds RetCode: 0 Status: OK