Package: Structstrings Version: 1.24.0 Command: /Library/Frameworks/R.framework/Resources/bin/R CMD build --keep-empty-dirs --no-resave-data Structstrings StartedAt: 2025-10-03 10:26:39 -0400 (Fri, 03 Oct 2025) EndedAt: 2025-10-03 10:27:16 -0400 (Fri, 03 Oct 2025) EllapsedTime: 36.4 seconds RetCode: 0 Status: OK PackageFile: Structstrings_1.24.0.tar.gz PackageFileSize: 366.8 KiB