Package: Structstrings Version: 1.24.0 Command: rm -rf Structstrings.buildbin-libdir && mkdir Structstrings.buildbin-libdir && /Users/biocbuild/BBS/utils/build-universal.sh Structstrings_1.24.0.tar.gz /Library/Frameworks/R.framework/Resources/bin/R Structstrings.buildbin-libdir StartedAt: 2025-10-04 20:13:13 -0400 (Sat, 04 Oct 2025) EndedAt: 2025-10-04 20:13:37 -0400 (Sat, 04 Oct 2025) EllapsedTime: 24.4 seconds RetCode: 0 Status: OK PackageFile: Structstrings_1.24.0.tgz PackageFileSize: 803 KiB