Package: Statial Version: 1.9.0 Command: /Library/Frameworks/R.framework/Resources/bin/R CMD INSTALL Statial StartedAt: 2025-02-19 15:44:47 -0500 (Wed, 19 Feb 2025) EndedAt: 2025-02-19 15:45:22 -0500 (Wed, 19 Feb 2025) EllapsedTime: 34.6 seconds RetCode: 0 Status: OK