Package: Statial Version: 1.9.0 Command: /Library/Frameworks/R.framework/Resources/bin/R CMD INSTALL Statial StartedAt: 2025-02-18 15:29:22 -0500 (Tue, 18 Feb 2025) EndedAt: 2025-02-18 15:29:33 -0500 (Tue, 18 Feb 2025) EllapsedTime: 11.3 seconds RetCode: 0 Status: OK