Package: Statial Version: 1.9.0 Command: /Library/Frameworks/R.framework/Resources/bin/R CMD build --keep-empty-dirs --no-resave-data Statial StartedAt: 2025-02-19 17:45:41 -0500 (Wed, 19 Feb 2025) EndedAt: 2025-02-19 17:47:59 -0500 (Wed, 19 Feb 2025) EllapsedTime: 137.6 seconds RetCode: 1 Status: ERROR PackageFile: None PackageFileSize: NA