Package: StabMap Version: 1.1.0 Command: /home/biocbuild/bbs-3.21-bioc/R/bin/R CMD check --install=check:StabMap.install-out.txt --library=/home/biocbuild/bbs-3.21-bioc/R/site-library --timings StabMap_1.1.0.tar.gz StartedAt: 2025-02-20 02:57:37 -0500 (Thu, 20 Feb 2025) EndedAt: 2025-02-20 03:05:54 -0500 (Thu, 20 Feb 2025) EllapsedTime: 497.8 seconds RetCode: 0 Status: OK CheckDir: StabMap.Rcheck Warnings: 0