Package: StabMap Version: 1.1.0 Command: /Library/Frameworks/R.framework/Resources/bin/R CMD build --keep-empty-dirs --no-resave-data StabMap StartedAt: 2025-02-19 17:45:29 -0500 (Wed, 19 Feb 2025) EndedAt: 2025-02-19 17:48:12 -0500 (Wed, 19 Feb 2025) EllapsedTime: 162.9 seconds RetCode: 0 Status: OK PackageFile: StabMap_1.1.0.tar.gz PackageFileSize: 2.073 MiB