Package: SpotSweeper Version: 1.3.3 Command: chmod a+r SpotSweeper -R && E:\biocbuild\bbs-3.21-bioc\R\bin\R.exe CMD build --keep-empty-dirs --no-resave-data SpotSweeper StartedAt: 2025-02-20 22:03:30 -0500 (Thu, 20 Feb 2025) EndedAt: 2025-02-20 22:06:38 -0500 (Thu, 20 Feb 2025) EllapsedTime: 188.2 seconds RetCode: 0 Status: OK PackageFile: SpotSweeper_1.3.3.tar.gz PackageFileSize: 3.125 MiB