Package: SpotSweeper Version: 1.3.3 Command: rm -rf SpotSweeper.buildbin-libdir && mkdir SpotSweeper.buildbin-libdir && E:\biocbuild\bbs-3.21-bioc\R\bin\R.exe CMD INSTALL --build --library=SpotSweeper.buildbin-libdir SpotSweeper_1.3.3.tar.gz StartedAt: 2025-02-21 09:11:42 -0500 (Fri, 21 Feb 2025) EndedAt: 2025-02-21 09:12:31 -0500 (Fri, 21 Feb 2025) EllapsedTime: 49.1 seconds RetCode: 0 Status: OK PackageFile: SpotSweeper_1.3.3.zip PackageFileSize: 3.156 MiB